BEGIN:VCALENDAR
VERSION:2.0
PRODID:icalendar-ruby
CALSCALE:GREGORIAN
METHOD:PUBLISH
BEGIN:VEVENT
DTSTAMP:20260419T161706Z
UID:72-369987@legacynazarene.ca
DTSTART:20261023T013000Z
DTEND:20261023T033000Z
CLASS:PUBLIC
CREATED:20260419T075132
DESCRIPTION:Our weekly youth group is all about connection\, faith\, and fu
 n! Each week we come together for games and activities\, short devotions t
 hat help us grow closer to God\, and plenty of time to hang out and make n
 ew friends. Whether you’ve grown up in church or are just curious about 
 faith\, you’re welcome here. Come discover a supportive community where 
 you can be yourself\, explore big questions\, and build friendships that l
 ast.
LAST-MODIFIED:20260419T075132
LOCATION:9012 160th Street
SUMMARY:Youth Group
URL;VALUE=URI:https://legacynazarene.ca/events/youth-group/2026-10-22
ATTACH;FILENAME=Youth Ministry  ICON 2 (2).png;FMTTYPE=image/png:https://dq
 5pwpg1q8ru0.cloudfront.net/2025/09/28/00/04/34/ee8bca7a-cf9a-4604-b81d-61e
 ef3406c9b/Youth%20Ministry%20%20ICON%202%20(2).png
END:VEVENT
END:VCALENDAR
