BEGIN:VCALENDAR
VERSION:2.0
PRODID:icalendar-ruby
CALSCALE:GREGORIAN
METHOD:PUBLISH
BEGIN:VEVENT
DTSTAMP:20260419T171822Z
UID:56-369643@legacynazarene.ca
DTSTART:20261028T010000Z
DTEND:20261028T023000Z
CLASS:PUBLIC
CREATED:20260419T075130
DESCRIPTION:Free weekly meetings every Tuesday @ 6:00pm\nIf you are struggl
 ing with the heavier weight of anxiety or depression\, you are not alone. 
 Pressures in Life – Level is a caring\, therapeutic group where you can 
 find understanding and support. Together\, we will focus on:\n\nChallengin
 g negative thoughts and patterns\nBuilding positive\, life-giving relation
 ships\nFinding hope and strength in community\n\nThis group is designed to
  walk with you in your struggles while offering tools and encouragement to
  move toward healing and greater wholeness. Here\, you will find a safe sp
 ace to be honest\, supported\, and reminded that you are not facing this j
 ourney alone.\nPlease register by emailing info@legacynazarene.ca or onlin
 e below
LAST-MODIFIED:20260419T075130
LOCATION:Legacy Church - 9012 160th Street St
SUMMARY:Pressures in Life
URL;VALUE=URI:https://legacynazarene.ca/events/pressures-in-life/2026-10-27
ATTACH;FILENAME=Group Therapy icon.png;FMTTYPE=image/png:https://dq5pwpg1q8
 ru0.cloudfront.net/2025/08/27/16/54/46/bc0428fd-c856-44b5-b5dd-2e90f4748bb
 f/Group%20Therapy%20icon.png
END:VEVENT
END:VCALENDAR
